BEGIN:VCALENDAR
VERSION:2.0
PRODID:-//Squarespace Inc/Squarespace 6//v6//EN
BEGIN:VEVENT
UID:5c0441ca03ce6472af881ee7@squarespace.com
DTSTAMP:20190314T234839Z
DTSTART:20190110T210000Z
DTEND:20190202T030000Z
SUMMARY:Time/Tone
END:VEVENT
END:VCALENDAR
