BEGIN:VCALENDAR
VERSION:2.0
PRODID:-//Squarespace Inc/Squarespace 6//v6//EN
BEGIN:VEVENT
UID:5c103b318a922d5c58bdc87c@squarespace.com
DTSTAMP:20181220T224428Z
DTSTART:20190131T043000Z
DTEND:20190131T063000Z
SUMMARY:Cory Champion – Live Performance
END:VEVENT
END:VCALENDAR
