BEGIN:VCALENDAR
VERSION:2.0
PRODID:-//Squarespace Inc/Squarespace 6//v6//EN
BEGIN:VEVENT
UID:5c8aedfc419202de3d186f0c@squarespace.com
DTSTAMP:20190626T003626Z
DTSTART:20190502T220000Z
DTEND:20190525T040000Z
SUMMARY:Rauropi [ | || ||| ]
END:VEVENT
END:VCALENDAR
