BEGIN:VCALENDAR
VERSION:2.0
PRODID:-//Squarespace Inc/Squarespace 6//v6//EN
BEGIN:VEVENT
UID:5d1d58bf3216d20001a4dc65@squarespace.com
DTSTAMP:20190912T003833Z
DTSTART:20190707T115900Z
DTEND:20190913T115900Z
SUMMARY:Toi Pōneke Gallery Call for Proposals 2019
END:VEVENT
END:VCALENDAR
