BEGIN:VCALENDAR
VERSION:2.0
PRODID:-//Squarespace Inc/Squarespace 6//v6//EN
BEGIN:VEVENT
UID:5ccb74b5eef1a115a849dd7b@squarespace.com
DTSTAMP:20190502T232528Z
DTSTART:20190525T020000Z
DTEND:20190525T030000Z
SUMMARY:Artist's Discussion: Intersections – concepts of sound within art\, 
 installation and theatre design
END:VEVENT
END:VCALENDAR
