BEGIN:VCALENDAR
VERSION:2.0
PRODID:-//Squarespace Inc/Squarespace 6//v6//EN
BEGIN:VEVENT
UID:5bea0f214d7a9c735fbbfd8d@squarespace.com
DTSTAMP:20190626T003614Z
DTSTART:20190531T220000Z
DTEND:20190623T040000Z
SUMMARY:EOmma
END:VEVENT
END:VCALENDAR
