BEGIN:VCALENDAR
VERSION:2.0
PRODID:-//Squarespace Inc/Squarespace 6//v6//EN
BEGIN:VEVENT
UID:5ce4bf3336ac2f00014edf4e@squarespace.com
DTSTAMP:20190529T043043Z
DTSTART:20190605T010000Z
DTEND:20190605T023000Z
SUMMARY: Business Structure &amp\; Tax Know How Seminar
END:VEVENT
END:VCALENDAR
