BEGIN:VCALENDAR
VERSION:2.0
PRODID:-//Squarespace Inc/Squarespace 6//v6//EN
BEGIN:VEVENT
UID:5cee0b16e4966b4e0cedd08a@squarespace.com
DTSTAMP:20190529T045942Z
DTSTART:20190626T003000Z
DTEND:20190626T023000Z
SUMMARY:Negotiating Contracts
END:VEVENT
END:VCALENDAR
