BEGIN:VCALENDAR
VERSION:2.0
PRODID:-//Squarespace Inc/Squarespace 6//v6//EN
BEGIN:VEVENT
UID:5cee11bd8165f55206803ce4@squarespace.com
DTSTAMP:20190529T052733Z
DTSTART:20190703T003000Z
DTEND:20190703T023000Z
SUMMARY:Entrepreneurial Thinking
END:VEVENT
END:VCALENDAR
