BEGIN:VCALENDAR
VERSION:2.0
PRODID:-//Squarespace Inc/Squarespace 6//v6//EN
BEGIN:VEVENT
UID:5cee150315fcc06f25d51b1a@squarespace.com
DTSTAMP:20190707T232635Z
DTSTART:20190710T003000Z
DTEND:20190710T023000Z
SUMMARY:Accounting &amp\; Budgeting Essentials
END:VEVENT
END:VCALENDAR
