BEGIN:VCALENDAR
VERSION:2.0
PRODID:-//Squarespace Inc/Squarespace 6//v6//EN
BEGIN:VEVENT
UID:5c044488758d4694848808db@squarespace.com
DTSTAMP:20190228T021823Z
DTSTART:20190207T210000Z
DTEND:20190302T030000Z
SUMMARY:The Modern Alpha
END:VEVENT
END:VCALENDAR
