BEGIN:VCALENDAR
VERSION:2.0
PRODID:-//Squarespace Inc/Squarespace 6//v6//EN
BEGIN:VEVENT
UID:5d19893b2fd3710001695f3b@squarespace.com
DTSTAMP:20190912T030914Z
DTSTART:20190807T060000Z
DTEND:20190807T073000Z
SUMMARY:Mantails\, Masculinity and Midlife Crisis - A panel discussion
END:VEVENT
END:VCALENDAR
