BEGIN:VCALENDAR
VERSION:2.0
PRODID:-//Squarespace Inc/Squarespace 6//v6//EN
BEGIN:VEVENT
UID:5d3fb0a59c62f000010b29b7@squarespace.com
DTSTAMP:20190904T032531Z
DTSTART:20190901T230000Z
DTEND:20190902T000000Z
SUMMARY:Te Reo Course for Artists
END:VEVENT
END:VCALENDAR
