BEGIN:VCALENDAR
VERSION:2.0
PRODID:-//Squarespace Inc/Squarespace 6//v6//EN
BEGIN:VEVENT
UID:5c0441b7c2241b29dbc23659@squarespace.com
DTSTAMP:20191024T023736Z
DTSTART:20190920T220000Z
DTEND:20191012T030000Z
SUMMARY:Storm water solutions
END:VEVENT
END:VCALENDAR
