BEGIN:VCALENDAR
VERSION:2.0
PRODID:-//Squarespace Inc/Squarespace 6//v6//EN
BEGIN:VEVENT
UID:5d631158d59ed00001fd92d2@squarespace.com
DTSTAMP:20190924T045002Z
DTSTART:20190925T060000Z
DTEND:20190925T080000Z
SUMMARY:Creative Colab Speed Dating
END:VEVENT
END:VCALENDAR
