BEGIN:VCALENDAR
VERSION:2.0
PRODID:-//Squarespace Inc/Squarespace 6//v6//EN
BEGIN:VEVENT
UID:5c4656ae898583fc9a97956a@squarespace.com
DTSTAMP:20191126T012142Z
DTSTART:20190121T230000Z
DTEND:20190322T040000Z
SUMMARY:WRITE ROOM\, Wellington Screen Writer Residency 2019 - call for sub
 missions
END:VEVENT
END:VCALENDAR
