BEGIN:VCALENDAR
VERSION:2.0
PRODID:-//Squarespace Inc/Squarespace 6//v6//EN
BEGIN:VEVENT
UID:5d91514ccb817c48dd4b6022@squarespace.com
DTSTAMP:20191127T215312Z
DTSTART:20191001T050000Z
DTEND:20191022T063000Z
SUMMARY:Announcing Sound Artist in Residence 2019
END:VEVENT
END:VCALENDAR
