BEGIN:VCALENDAR
VERSION:2.0
PRODID:-//Squarespace Inc/Squarespace 6//v6//EN
BEGIN:VEVENT
UID:5d476974c51d930001210f93@squarespace.com
DTSTAMP:20190916T020811Z
DTSTART:20191004T210000Z
DTEND:20191004T223000Z
SUMMARY:Weather Dependant: a spring art walk 
END:VEVENT
END:VCALENDAR
