BEGIN:VCALENDAR
VERSION:2.0
PRODID:-//Squarespace Inc/Squarespace 6//v6//EN
BEGIN:VEVENT
UID:5d47713bc2f0c500011249de@squarespace.com
DTSTAMP:20190916T020822Z
DTSTART:20191011T230000Z
DTEND:20191012T020000Z
SUMMARY:Ten steps with pictures: make something cute 
END:VEVENT
END:VCALENDAR
