BEGIN:VCALENDAR
VERSION:2.0
PRODID:-//Squarespace Inc/Squarespace 6//v6//EN
BEGIN:VEVENT
UID:5d81b521687428319090f6e0@squarespace.com
DTSTAMP:20191105T222309Z
DTSTART:20191015T210000Z
DTEND:20191217T230000Z
SUMMARY:open studio workshops
END:VEVENT
END:VCALENDAR
