BEGIN:VCALENDAR
VERSION:2.0
PRODID:-//Squarespace Inc/Squarespace 6//v6//EN
BEGIN:VEVENT
UID:5d79ac509e3ec610dfa81e38@squarespace.com
DTSTAMP:20190916T020711Z
DTSTART:20191016T210000Z
DTEND:20191120T230000Z
SUMMARY:art start for beginners
END:VEVENT
END:VCALENDAR
