BEGIN:VCALENDAR
VERSION:2.0
PRODID:-//Squarespace Inc/Squarespace 6//v6//EN
BEGIN:VEVENT
UID:5d81a5296874283190904fa7@squarespace.com
DTSTAMP:20190918T034604Z
DTSTART:20191019T000000Z
DTEND:20191019T013000Z
SUMMARY:Repeat Pattern
END:VEVENT
END:VCALENDAR
