BEGIN:VCALENDAR
VERSION:2.0
PRODID:-//Squarespace Inc/Squarespace 6//v6//EN
BEGIN:VEVENT
UID:5dae759c3a41087633c6523f@squarespace.com
DTSTAMP:20191203T205856Z
DTSTART:20191206T230000Z
DTEND:20191207T010000Z
SUMMARY:To Weave or not to Weave
END:VEVENT
END:VCALENDAR
