BEGIN:VCALENDAR
VERSION:2.0
PRODID:-//Squarespace Inc/Squarespace 6//v6//EN
BEGIN:VEVENT
UID:5ddb1dd381fab20e4f35e275@squarespace.com
DTSTAMP:20191125T213532Z
DTSTART:20191127T050000Z
DTEND:20200409T073000Z
SUMMARY:Capoeira
END:VEVENT
END:VCALENDAR
