BEGIN:VCALENDAR
VERSION:2.0
PRODID:-//Squarespace Inc/Squarespace 6//v6//EN
BEGIN:VEVENT
UID:5ddc6795a0dbc1703f6fa98a@squarespace.com
DTSTAMP:20191204T033016Z
DTSTART:20200202T200000Z
DTEND:20200314T080000Z
SUMMARY: dance residency 2019 - 2020
END:VEVENT
END:VCALENDAR
