BEGIN:VCALENDAR
VERSION:2.0
PRODID:-//Squarespace Inc/Squarespace 6//v6//EN
BEGIN:VEVENT
UID:5d79a8e1645e6a43040f47a4@squarespace.com
DTSTAMP:20191105T222044Z
DTSTART:20191207T010000Z
DTEND:20191207T020000Z
SUMMARY:Chevron Hassett - Artist Talk
END:VEVENT
END:VCALENDAR
