BEGIN:VCALENDAR
VERSION:2.0
PRODID:-//Squarespace Inc/Squarespace 6//v6//EN
BEGIN:VEVENT
UID:5dad2ba951bf6e19d667727e@squarespace.com
DTSTAMP:20191218T204031Z
DTSTART:20191212T043000Z
DTEND:20191222T030000Z
SUMMARY:The Toi Three Hundy
END:VEVENT
END:VCALENDAR
