BEGIN:VCALENDAR
VERSION:2.0
PRODID:-//Squarespace Inc/Squarespace 6//v6//EN
BEGIN:VEVENT
UID:5ca2ab6315fcc094af900af9@squarespace.com
DTSTAMP:20191105T222323Z
DTSTART:20191017T210000Z
DTEND:20191109T030000Z
SUMMARY:See it like this
END:VEVENT
END:VCALENDAR
