BEGIN:VCALENDAR
VERSION:2.0
PRODID:-//Squarespace Inc/Squarespace 6//v6//EN
BEGIN:VEVENT
UID:5cdf56c6c61c1200016aad11@squarespace.com
DTSTAMP:20190707T232037Z
DTSTART:20190628T220000Z
DTEND:20190719T080000Z
SUMMARY:Haukāinga\, True people/Home
END:VEVENT
END:VCALENDAR
