BEGIN:VCALENDAR
VERSION:2.0
PRODID:-//Squarespace Inc/Squarespace 6//v6//EN
BEGIN:VEVENT
UID:5c6b2b924e17b6274831eae2@squarespace.com
DTSTAMP:20190228T021936Z
DTSTART:20190304T060000Z
DTEND:20190304T070000Z
SUMMARY:Whiteness: a blinding view
END:VEVENT
END:VCALENDAR
