BEGIN:VCALENDAR
VERSION:2.0
PRODID:-//Squarespace Inc/Squarespace 6//v6//EN
BEGIN:VEVENT
UID:5c74a79aec212d1a6c389b56@squarespace.com
DTSTAMP:20190626T003707Z
DTSTART:20190228T230000Z
DTEND:20190401T105900Z
SUMMARY:Toi Pōneke Arts Centre Visual Arts Residency 2019 - call for submis
 sions
END:VEVENT
END:VCALENDAR
