BEGIN:VCALENDAR
VERSION:2.0
PRODID:-//Squarespace Inc/Squarespace 6//v6//EN
BEGIN:VEVENT
UID:5c9af412eef1a1e10be07d64@squarespace.com
DTSTAMP:20190409T213745Z
DTSTART:20190426T220000Z
DTEND:20190427T050000Z
SUMMARY:Toi Pōneke Dance Tasters  
END:VEVENT
END:VCALENDAR
