BEGIN:VCALENDAR
VERSION:2.0
PRODID:-//Squarespace Inc/Squarespace 6//v6//EN
BEGIN:VEVENT
UID:5d100a687aee47000173a45b@squarespace.com
DTSTAMP:20191024T021438Z
DTSTART:20190822T220000Z
DTEND:20190914T040000Z
SUMMARY:Linear Impositions
END:VEVENT
END:VCALENDAR
