BEGIN:VCALENDAR
VERSION:2.0
PRODID:-//Squarespace Inc/Squarespace 6//v6//EN
BEGIN:VEVENT
UID:5d50e68456f2230001cf774c@squarespace.com
DTSTAMP:20190912T020447Z
DTSTART:20190912T060000Z
DTEND:20190912T073000Z
SUMMARY:Marilyn Jones\, Lisa Munnelly and Sue Prescott - in Conversation
END:VEVENT
END:VCALENDAR
