BEGIN:VCALENDAR
VERSION:2.0
PRODID:-//Squarespace Inc/Squarespace 6//v6//EN
BEGIN:VEVENT
UID:5d50af8f567c8a0001ada403@squarespace.com
DTSTAMP:20190812T040940Z
DTSTART:20190906T220000Z
DTEND:20190907T000000Z
SUMMARY: Drawing with Scissors
END:VEVENT
END:VCALENDAR
