BEGIN:VCALENDAR
VERSION:2.0
PRODID:-//Squarespace Inc/Squarespace 6//v6//EN
BEGIN:VEVENT
UID:5ce228118344ac0001c73c71@squarespace.com
DTSTAMP:20190818T222228Z
DTSTART:20190725T220000Z
DTEND:20190818T040000Z
SUMMARY:four songs\, played twice
END:VEVENT
END:VCALENDAR
