BEGIN:VCALENDAR
VERSION:2.0
PRODID:-//Squarespace Inc/Squarespace 6//v6//EN
BEGIN:VEVENT
UID:5d1abd12a4ff3c00011e604c@squarespace.com
DTSTAMP:20191110T214503Z
DTSTART:20191115T210000Z
DTEND:20191207T030000Z
SUMMARY:Home is where my heart will rest
END:VEVENT
END:VCALENDAR
