BEGIN:VCALENDAR
VERSION:2.0
PRODID:-//Squarespace Inc/Squarespace 6//v6//EN
BEGIN:VEVENT
UID:5f42f1000f73c2195e158668@squarespace.com
DTSTAMP:20200914T213545Z
DTSTART:20200918T220000Z
DTEND:20201010T030000Z
SUMMARY:Furniture Memoirs
END:VEVENT
END:VCALENDAR
