BEGIN:VCALENDAR
VERSION:2.0
PRODID:-//Squarespace Inc/Squarespace 6//v6//EN
BEGIN:VEVENT
UID:5ddb05aa9de5330a90c23b6b@squarespace.com
DTSTAMP:20200708T233212Z
DTSTART:20200110T210000Z
DTEND:20200202T030000Z
SUMMARY:Why is matter so intelligent\, though?
END:VEVENT
END:VCALENDAR
