BEGIN:VCALENDAR
VERSION:2.0
PRODID:-//Squarespace Inc/Squarespace 6//v6//EN
BEGIN:VEVENT
UID:5e55dc6ae0e38673fd515e12@squarespace.com
DTSTAMP:20200318T015829Z
DTSTART:20200306T210000Z
DTEND:20200327T070000Z
SUMMARY:Urinal my dreams
END:VEVENT
END:VCALENDAR
