BEGIN:VCALENDAR
VERSION:2.0
PRODID:-//Squarespace Inc/Squarespace 6//v6//EN
BEGIN:VEVENT
UID:5dfa8ced7748b21c825902ef@squarespace.com
DTSTAMP:20191218T203931Z
DTSTART:20200305T210000Z
DTEND:20200328T030000Z
SUMMARY:Urinal my dreams
END:VEVENT
END:VCALENDAR
