BEGIN:VCALENDAR
VERSION:2.0
PRODID:-//Squarespace Inc/Squarespace 6//v6//EN
BEGIN:VEVENT
UID:5e5d71a7a549a809356b3da4@squarespace.com
DTSTAMP:20200820T043910Z
DTSTART:20200711T020000Z
DTEND:20200711T030000Z
SUMMARY:Band Sensations responds live
END:VEVENT
END:VCALENDAR
