BEGIN:VCALENDAR
VERSION:2.0
PRODID:-//Squarespace Inc/Squarespace 6//v6//EN
BEGIN:VEVENT
UID:5e55df3edbe06a62fbe4097a@squarespace.com
DTSTAMP:20200820T044001Z
DTSTART:20200626T230000Z
DTEND:20200718T100000Z
SUMMARY:I’m glad you’re here\, just the way you are
END:VEVENT
END:VCALENDAR
