BEGIN:VCALENDAR
VERSION:2.0
PRODID:-//Squarespace Inc/Squarespace 6//v6//EN
BEGIN:VEVENT
UID:5f162d6823a6f1586e97670c@squarespace.com
DTSTAMP:20200720T235817Z
DTSTART:20200801T000000Z
DTEND:20200801T030000Z
SUMMARY:Family Workshop
END:VEVENT
END:VCALENDAR
