BEGIN:VCALENDAR
VERSION:2.0
PRODID:-//Squarespace Inc/Squarespace 6//v6//EN
BEGIN:VEVENT
UID:5df6e1a24f4ce57dd2613850@squarespace.com
DTSTAMP:20191218T203947Z
DTSTART:20200207T210000Z
DTEND:20200301T030000Z
SUMMARY:New Old Forms
END:VEVENT
END:VCALENDAR
