BEGIN:VCALENDAR
VERSION:2.0
PRODID:-//Squarespace Inc/Squarespace 6//v6//EN
BEGIN:VEVENT
UID:5f27842cb416162a13712bf9@squarespace.com
DTSTAMP:20200908T222038Z
DTSTART:20200821T220000Z
DTEND:20200912T040000Z
SUMMARY:Oceans turn to goo
END:VEVENT
END:VCALENDAR
