BEGIN:VCALENDAR
VERSION:2.0
PRODID:-//Squarespace Inc/Squarespace 6//v6//EN
BEGIN:VEVENT
UID:5f2787443c4a28009705f1a0@squarespace.com
DTSTAMP:20200803T041812Z
DTSTART:20200912T000000Z
DTEND:20200912T020000Z
SUMMARY:Waves book launch
END:VEVENT
END:VCALENDAR
