BEGIN:VCALENDAR
VERSION:2.0
PRODID:-//Squarespace Inc/Squarespace 6//v6//EN
BEGIN:VEVENT
UID:5f3b4c79ee93e0123192b9fa@squarespace.com
DTSTAMP:20200818T040204Z
DTSTART:20200925T223000Z
DTEND:20200926T013000Z
SUMMARY:Design Tips for Non-Designers
END:VEVENT
END:VCALENDAR
