BEGIN:VCALENDAR
VERSION:2.0
PRODID:-//Squarespace Inc/Squarespace 6//v6//EN
BEGIN:VEVENT
UID:5def00fc9fcc7715ba6909ec@squarespace.com
DTSTAMP:20200414T032826Z
DTSTART:20200126T230000Z
DTEND:20200420T050000Z
SUMMARY:WRITE ROOM\, Wellington Screen Writer Residency 2020 - call for sub
 missions
END:VEVENT
END:VCALENDAR
