BEGIN:VCALENDAR
VERSION:2.0
PRODID:-//Squarespace Inc/Squarespace 6//v6//EN
BEGIN:VEVENT
UID:5f431da80502cb348fc5df70@squarespace.com
DTSTAMP:20201026T231251Z
DTSTART:20201113T213000Z
DTEND:20201114T023000Z
SUMMARY:Printmaking Workshop
END:VEVENT
END:VCALENDAR
